BEGIN:VCALENDAR
VERSION:2.0
PRODID:-//Office of Alumni Engagement - ECPv6.6.4.2//NONSGML v1.0//EN
CALSCALE:GREGORIAN
METHOD:PUBLISH
X-ORIGINAL-URL:https://alumni.laverne.edu
X-WR-CALDESC:Events for Office of Alumni Engagement
REFRESH-INTERVAL;VALUE=DURATION:PT1H
X-Robots-Tag:noindex
X-PUBLISHED-TTL:PT1H
BEGIN:VTIMEZONE
TZID:America/Los_Angeles
BEGIN:DAYLIGHT
TZOFFSETFROM:-0800
TZOFFSETTO:-0700
TZNAME:PDT
DTSTART:20250309T100000
END:DAYLIGHT
BEGIN:STANDARD
TZOFFSETFROM:-0700
TZOFFSETTO:-0800
TZNAME:PST
DTSTART:20251102T090000
END:STANDARD
END:VTIMEZONE
BEGIN:VEVENT
DTSTART;TZID=America/Los_Angeles:20251207T190000
DTEND;TZID=America/Los_Angeles:20251207T210000
DTSTAMP:20260421T041939
CREATED:20251120T184716Z
LAST-MODIFIED:20251120T184716Z
UID:3092-1765134000-1765141200@alumni.laverne.edu
SUMMARY:Holiday Choral Concert
DESCRIPTION:Join us for a festive evening filled with holiday tunes! The ULV Chamber Singers and the University Chorale will perform cherished holiday songs. \nThe concert will showcase the combined talents of the ULV Chamber Singers and the San Dimas High School Chamber Choir as they present Vivaldi’s Gloria accompanied by orchestra! \nConducted by Dr. Clarissa Shan and Jared Pugh. \nEvent Information\nDate/Time: Sunday\, December 7 •  7:00 PM\nPrice: $20/ticket\nLocation:University of La Verne\, Morgan Auditorium | 1950 Third Street\, La Verne\, CA 91750 \nBuy Tickets\nbuy tickets
URL:https://alumni.laverne.edu/event/holiday-choral-concert/
LOCATION:Ann and Steve Morgan Auditorium\, 1950 Third Street\, La Verne\, CA\, 91750\, United States
CATEGORIES:Office of Alumni Engagement
ATTACH;FMTTYPE=image/jpeg:https://alumni.laverne.edu/wp-content/uploads/sites/2/2025/11/ULV-Vivaldi-Gloria-2025-Poster-1.jpg
ORGANIZER;CN="Music Department":MAILTO:music@laverne.edu
END:VEVENT
BEGIN:VEVENT
DTSTART;TZID=America/Los_Angeles:20251116T150000
DTEND;TZID=America/Los_Angeles:20251116T170000
DTSTAMP:20260421T041939
CREATED:20251103T194438Z
LAST-MODIFIED:20251104T200540Z
UID:3053-1763305200-1763312400@alumni.laverne.edu
SUMMARY:La Verne Symphony Orchestra Fall~Winter Concert
DESCRIPTION:The La Verne Symphony Orchestra (LVSO) proudly announces its Fall/Winter 2025 Concert. \nUnder the baton of Dr. Sylvia Lee Mann\, LVSO Music Director and Conductor\, this inspiring program features two distinguished piano soloists: University of La Verne alumna Austine Shu\, and ULV Music Department Chair Dr. Grace Xia Zhao. Ms. Shu will perform the brilliant final movement of Mozart’s Piano Concerto No. 22\, while Dr. Zhao will offer the luminous second movement of Rachmaninoff’s beloved Piano Concerto No. 2. \nIn addition to these featured works\, the orchestra will present a vibrant and diverse program showcasing musical voices across eras and continents\, including Joseph Bologne\, Chevalier de Saint-Georges\, Carol Brittin Chambers\, and Mikhail Glinka. The concert promises an afternoon of elegance\, energy\, and symphonic excitement. \nFeatured repertoire includes: \n\nSymphony No. 2\, Op. 11 — Joseph Bologne\, Chevalier de Saint-Georges\nByzantine Dances — Carol Brittin Chambers\nOverture to Ruslan and Ludmilla — Mikhail Glinka\nPiano Concerto No. 22\, mvt. III (Rondo) — W.A. Mozart | Soloist: Austine Shu\nPiano Concerto No. 2\, mvt. II — Sergei Rachmaninoff | Soloist: Dr. Grace Xia Zhao\n\nThe La Verne Symphony Orchestra is a University of La Verne ensemble founded in partnership with the local community. Featuring students\, faculty\, staff\, and regional musicians\, LVSO is committed to presenting uplifting\, high-quality performances while building musical community. Under Dr. Mann’s dynamic leadership\, the orchestra continues to grow in artistry\, visibility\, and impact throughout the region. \n\nEvent Information\nDate: Sunday\, November 16\nTime: 3:00 PM\nLocation: ​University of La Verne\, Morgan Auditorium\nPrice: Free \n\nRegister\nRegister
URL:https://alumni.laverne.edu/event/la-verne-symphony-orchestra-fallwinter-concert/
LOCATION:Ann and Steve Morgan Auditorium\, 1950 Third Street\, La Verne\, CA\, 91750\, United States
CATEGORIES:Office of Alumni Engagement
ATTACH;FMTTYPE=image/jpeg:https://alumni.laverne.edu/wp-content/uploads/sites/2/2025/11/2025-Fall-Winter-Concert-FB-Event-Header-01.jpg
ORGANIZER;CN="Music Department":MAILTO:music@laverne.edu
END:VEVENT
BEGIN:VEVENT
DTSTART;TZID=America/Los_Angeles:20251026T190000
DTEND;TZID=America/Los_Angeles:20251026T210000
DTSTAMP:20260421T041939
CREATED:20251016T225810Z
LAST-MODIFIED:20251016T225810Z
UID:3043-1761505200-1761512400@alumni.laverne.edu
SUMMARY:Halloween Choral Concert
DESCRIPTION:We’re excited to be back for a new academic year and to kick things off with our first-ever Halloween Choral Concert! \nUnder the direction of our new choir director\, Clarissa Shan\, this free concert will feature a variety of spooky and seasonal favorites sure to get you in the Halloween spirit. \nAudience members are encouraged to come in costume for a chance to win our Best Costume Contest\, and enjoy an evening of music and fun for the whole family! \nWe look forward to seeing you there! \nEvent Information\nDate: Sunday\, October 26\nTime: 7:00 PM\nLocation: ​University of La Verne\, Morgan Auditorium\nPrice: Free \nRegister\nRegister \n 
URL:https://alumni.laverne.edu/event/halloween-choral-concert/
LOCATION:Ann and Steve Morgan Auditorium\, 1950 Third Street\, La Verne\, CA\, 91750\, United States
CATEGORIES:Office of Alumni Engagement
ATTACH;FMTTYPE=image/png:https://alumni.laverne.edu/wp-content/uploads/sites/2/2025/10/banner-600x329-1.png
ORGANIZER;CN="Music Department":MAILTO:music@laverne.edu
END:VEVENT
END:VCALENDAR